BEGIN:VCALENDAR
VERSION:2.0
PRODID:-//Retrochap - ECPv6.15.20//NONSGML v1.0//EN
CALSCALE:GREGORIAN
METHOD:PUBLISH
X-ORIGINAL-URL:https://www.retrochap.fr/site
X-WR-CALDESC:Évènements pour Retrochap
REFRESH-INTERVAL;VALUE=DURATION:PT1H
X-Robots-Tag:noindex
X-PUBLISHED-TTL:PT1H
BEGIN:VTIMEZONE
TZID:Europe/Paris
BEGIN:DAYLIGHT
TZOFFSETFROM:+0100
TZOFFSETTO:+0200
TZNAME:CEST
DTSTART:20200329T010000
END:DAYLIGHT
BEGIN:STANDARD
TZOFFSETFROM:+0200
TZOFFSETTO:+0100
TZNAME:CET
DTSTART:20201025T010000
END:STANDARD
BEGIN:DAYLIGHT
TZOFFSETFROM:+0100
TZOFFSETTO:+0200
TZNAME:CEST
DTSTART:20210328T010000
END:DAYLIGHT
BEGIN:STANDARD
TZOFFSETFROM:+0200
TZOFFSETTO:+0100
TZNAME:CET
DTSTART:20211031T010000
END:STANDARD
BEGIN:DAYLIGHT
TZOFFSETFROM:+0100
TZOFFSETTO:+0200
TZNAME:CEST
DTSTART:20220327T010000
END:DAYLIGHT
BEGIN:STANDARD
TZOFFSETFROM:+0200
TZOFFSETTO:+0100
TZNAME:CET
DTSTART:20221030T010000
END:STANDARD
END:VTIMEZONE
BEGIN:VEVENT
DTSTART;VALUE=DATE:20210321
DTEND;VALUE=DATE:20210322
DTSTAMP:20260420T062015
CREATED:20210103T184610Z
LAST-MODIFIED:20210103T184946Z
UID:5792-1616284800-1616371199@www.retrochap.fr
SUMMARY:Rallye AFTEC
DESCRIPTION:
URL:https://www.retrochap.fr/site/event/rendez-vous-mensuel-du-mois-mars-2021/
LOCATION:La Chapelle Saint Mesmin – Parking de l’Espace Béraire\, rue de béraire\, La Chapelle Saint Mesmin\, Loiret\, 45380\, France
CATEGORIES:Rallye
ORGANIZER;CN="RETROCHAP":MAILTO:president@retrochap.fr
END:VEVENT
END:VCALENDAR